BEGIN:VCALENDAR
VERSION:2.0
PRODID:-//https://cfaecentro-oeste.pt///NONSGML kigkonsult.se iCalcreator 2.10.15//
METHOD:PUBLISH
BEGIN:VEVENT
UID:20260420T125514UTC-0753jDVbaf@https://cfaecentro-oeste.pt/
DTSTAMP:20260420T125514Z
DESCRIPTION:{tab=Geral|bue}\n\n\n\n\n\nNúmero da Ação\n\n42NF2015\n\n\n\n&n
 bsp\;\nDuração e Créditos\n\n\nHoras Presenciais: 15 horas\nHoras de Traba
 lho Autónomo: 0 Horas\nTotal de Créditos: 0\,6 Créditos\n&nbsp\;\n\n\n\n\n
 Formadores responsáveis\n\nMelissa Martins Marmelo Maurício\n\n\n\n&nbsp\;
 \nDestinatários\n\n\nDestinatários de acordo com o artigo 5º\, do Regime J
 urídico da Formação Continua de Professores: Educadores de Infância e Prof
 essores dos Ensinos Básico e Secundário\nNº de Formandos:\nMínimo: 10 - Má
 ximo: 30\n\n\n\n\nCritérios de seleção\n\n\n&nbsp\;\n&nbsp\;\n&nbsp\;\n&nb
 sp\;\n\n\n\n\nPagamento\n\n\n&nbsp\;\n&nbsp\;\n\n\n\n\nInscrições\n\n\n&nb
 sp\;\n&nbsp\;\n\n\n\n\n\n{tab=Acreditação|green}\n\n\n\n\n\nRegisto de acr
 editação\n\nCCPFC/ACC-84327/15 - Modalidade: Curso de Formação\n\n\n\n&nbs
 p\;\nConteúdos\n\n\n- Definição do planeamento estratégico da autoavaliaçã
 o\;\n- Desenvolvimento de um Projeto de Ações de Melhoria e/ou a Sustentar
 \;\n- Discussão e definição do planeamento de uma ação de melhoria e/ou su
 stentar com enfoque no ensino e aprendizagem\;\n- Discussão de estratégias
  de implementação das ações\;\n- Definição de instrumentos de avaliação e 
 acompanhamento das ações\,\n- Impacto das ações.\n\n\n\n\nRazões\n\n\nA au
 toavaliação das escolas foi implementada em todas as escolas e agrupamento
 s do concelho de Vila Franca de Xira. Neste sentido já se realizaram ações
  acreditadas e não acreditadas tendentes a dotar as escolas dos instrument
 os necessários à sua autoavaliação. Dado todas as escolas estarem envolvid
 as em processos de autoavaliação e certifiicação de processos\, foi entend
 ido pelas direções das escolas e por este&nbsp\; CFAE incluír no seu plano
  de atividades&nbsp\; uma ação de&nbsp\; autoavaliação\, que permitisse ul
 trapassar os constrangimentos vários com que as escolas se debatem ao colo
 carem em prática uma cultura de avaliação e\, simultaneamente\, uniformiza
 r as práticas ou torná-las semelhantes em todo o concelho.\n\n\n\n\nEfeito
 s\n\n\n- Fomentar a reflexão participada sobre o desempenho da organização
  escolar\;\n- Promover uma cultura de autoavaliação\;\n- Incentivar o trab
 alho em equipa no âmbito da autoavaliação\;\n- Contribuir para a difusão d
 os conhecimentos e competências adquiridas\;\n- Implementar práticas e met
 odologias de autoavaliação com enfoque nas ações de melhoria e/ou a susten
 tar sobre o ensino e aprendizagem\n\n\n\n\nAvaliação dos formandos\n\n\n– 
 Presença obrigatória em 2/3 das sessões.\n– Itens em avaliação: assiduidad
 e\, pontualidade\, participação\, trabalho desenvolvido e\n&nbsp\; &nbsp\;
 reflexão crítica sobre a formação.\n– Os dois últimos itens são avaliados 
 com base em 2 ou 3 componentes (dados a conhecer a\n&nbsp\;&nbsp\; cada pr
 eviamente aos formando).\n– Cada item/componente é avaliado de 1 a 10.\n– 
 A avaliação global resultante será feita de acordo com a legislação em vig
 or:\n&nbsp\;&nbsp\;&nbsp\;&nbsp\; Excelente – de 9 a 10\n&nbsp\;&nbsp\;&nb
 sp\;&nbsp\; Muito Bom – de 8 a 8\,9\n&nbsp\;&nbsp\;&nbsp\;&nbsp\; Bom – de
  6\,5 a 7\,9\n&nbsp\;&nbsp\;&nbsp\;&nbsp\; Regular – de 5 a 6\,4\n&nbsp\;&
 nbsp\;&nbsp\;&nbsp\; Insuficiente – de 1 a 4\,9.\n&nbsp\;&nbsp\;&nbsp\;&nb
 sp\;\n&nbsp\;&nbsp\;&nbsp\;&nbsp\; Distribuição dos pesos sobre as diversa
 s componentes da formação de acordo com os critérios aprovados pela Comiss
 ão Pedagógica do CFAE: 10% Assiduidade\; Trabalho Presencial 40%\; Documen
 to de Reflexão Crítica 50%.\n\n\n\n\n\n{tab=Calendarização e Local|orange}
 \n\n\n\n\nCalendarização/\nHorário\n\n\nInício a \, das &nbsp\;às .\n\n\n
 \n\nLocal de realização\n\n\nAgrupamento de Escolas do Cadaval\n\n\n\n&nbs
 p\;\n\n\n\n{/tabs}\n{slider=Lista de Formandos Inscritos|blue}\n{module Fo
 rmandos Inscritos}\n&nbsp\;{slider=Lista de Formandos Não Admitidos|red}\n
 {module MOD_RSEVENTSPRO_Naoadmitidos}\n&nbsp\;{slider=Lista Formandos Admi
 tidos|green}\n{module MOD_RSEVENTSPRO_admitidos}\n{/sliders} https://cfaec
 entro-oeste.pt/index.php/pt/component/rseventspro/acontecimento/370-42nf20
 15-a-autoavaliacao-nas-organizacoes-escolares-como-atuar?Itemid=422015
DTSTART:20151112T183400Z
DTEND:20151210T203400Z
LOCATION:Agrupamento de Escolas do Cadaval (Rua de Aristides de Sousa Mende
 s \, 2550-007 \, Cadaval \, Portugal)
SUMMARY:42NF2015 - A autoavaliação nas organizações escolares: como atuar?
URL:https://cfaecentro-oeste.pt/index.php/pt/component/rseventspro/aconteci
 mento/370-42nf2015-a-autoavaliacao-nas-organizacoes-escolares-como-atuar?I
 temid=422015
END:VEVENT
END:VCALENDAR
