BEGIN:VCALENDAR
VERSION:2.0
PRODID:-//https://cfaecentro-oeste.pt///NONSGML kigkonsult.se iCalcreator 2.10.15//
METHOD:PUBLISH
BEGIN:VEVENT
UID:20260419T150903UTC-0160Ik0Avf@https://cfaecentro-oeste.pt/
DTSTAMP:20260419T150903Z
DESCRIPTION:Professores do Grupo 200 do 2º Ciclo do Ensino Básico e do Grup
 o 400 dos Ensinos Básico (3º Ciclo) e Secundário.FormadorFRANCISCO ISIDORO
  RODRIGUES CANTANHEDE\nRazões justificativas da ação e a sua inserção no p
 lano de atividades da entidade proponente. A educação\, a exemplo de outra
 s áreas do conhecimento\, encontra­-se em permanente mutação. Logo torna-­
 se pertinente promover junto dos docentes a atualização/aprofundamento de 
 conhecimentos e repensar as práticas pedagógicas implementadas em sala de 
 aula. O inovador quadro educativo exige a divulgação de metodologias e o u
 so de recursos facilitadores do envolvimento do aluno na construção do con
 hecimento\, ou seja de práticas verdadeiramente ativas. Ora qualquer mudan
 ça pode implicar a sensação de insegurança\, por parte dos docentes\, se n
 ão for acompanhada de referências teórico práticas que lhe estão subjacent
 es. Assim será vantajoso promover quer o debate quer a partilha\, caminho 
 que nos parece ser o mais indicado para levar os docentes a inovar as suas
  práticas em sala de aula\, de forma a que as aprendizagens adquiridas pel
 os alunos\, sejam realmente significativas. Objetivos a atingir ­ Aprofund
 ar conhecimentos a nível pedagógico/didático\; ­Articular a reflexão teóri
 ca da educação histórica com as práticas de sala de aula\; Apontar novos c
 aminhos metodológicos para a aprendizagem da História\; ­Promover o trabal
 ho de grupo entre docentes. Conteúdos da ação 1 Sessão (4 horas) Apresenta
 ção da metodologia e dos objetivos da ação. A problemática educacional­ da
  1ª República à atualidade\; 2 Sessão (4 horas) Escola atual: continuar ou
  mudar? A motivação em sala de aula\; 3 Sessão (4 horas) A importância das
  fontes na construção do conhecimento histórico; trabalho prático em grupo
 : exploração de fontes; Metodologias de realização da ação O curso terá a 
 duração de 12 horas\, dividido em 3 sessões de 4 horas cada.Em cada sessão
 \, paralelamente à exposição de conteúdos\, será promovida a participação 
 ativa dos formandos através do debate. Regime de avaliação dos formandos O
 s formandos serão avaliados na escala de 1 a 10\, de acordo com a carta­ c
 ircular 3/2007 do CCPFC\, com base em: ­ Assiduidade; ­ Envolvimento nas s
 essões; ­ Ficha de avaliação\nPrioridades:1.ª:Docentes do Agrupamento de E
 scolas D. João II\;\n2.ª:Docentes associados do CFAE\;\n3.ª Docentes não a
 ssociados do CFAE. Por ordem de inscrição.\nCalendário:Dias 24 e 25 de fev
 ereiro e 7 e 8 de março de 2016\, entre as 18:00 e as 21:00 h.Local de rea
 lização: Pequeno auditório da sede do Agrupamento de Escolas D. João II\, 
 nas Caldas da Rainha.Preço: 10€ por formando (despesas administrativas)\, 
 pagamento a ser efetuado por transferência bancária para o IBAN: PT50 0035
  0183 00068510030 09\n \n{slider=Lista de Formandos Inscritos|blue}\n{modu
 le Formandos Inscritos}\n \n{slider=Lista de Formandos Não Admitidos|red}
 \n{module MOD_RSEVENTSPRO_Naoadmitidos}\n \n{slider=Lista Formandos Admiti
 dos|green}\n{module MOD_RSEVENTSPRO_admitidos}\n{/sliders} https://cfaecen
 tro-oeste.pt/index.php/pt/component/rseventspro/acontecimento/372-02nf2016
 -a-aprendizagem-da-historia-da-teoria-a-pratica?Itemid=22016
DTSTART:20160224T180000Z
DTEND:20160224T210000Z
LOCATION:Agrupamento de Escolas D. João II (Rua Artur Figueirôa Rego \, 250
 0-917 \, Caldas da Rainha \, Portugal)
SUMMARY:02NF2016 - A Aprendizagem da História. ­ Da teoria à prática
URL:https://cfaecentro-oeste.pt/index.php/pt/component/rseventspro/aconteci
 mento/372-02nf2016-a-aprendizagem-da-historia-da-teoria-a-pratica?Itemid=2
 2016
END:VEVENT
END:VCALENDAR
