BEGIN:VCALENDAR
VERSION:2.0
PRODID:-//https://cfaecentro-oeste.pt///NONSGML kigkonsult.se iCalcreator 2.10.15//
METHOD:PUBLISH
BEGIN:VEVENT
UID:20260419T163556UTC-6193DOiZRP@https://cfaecentro-oeste.pt/
DTSTAMP:20260419T163556Z
DESCRIPTION:Coletivos em perspetiva\n\nEste curso tem por objetivo reavivar
  o papel das experi&ecirc\;ncias de interven&ccedil\;&atilde\;o coletiva n
 o territ&oacute\;rio art&iacute\;stico e revisitar a arte moderna e contem
 por&acirc\;nea atrav&eacute\;s do conceito de &ldquo\;Coletivos&rdquo\;. A
  abordagem que iremos desencadear alia a perspetiva te&oacute\;rica\, visi
 tas comentadas e o di&aacute\;logo sobre o tema\, visando refletir sobre a
  dimens&atilde\;o hist&oacute\;rica\, pol&iacute\;tica e art&iacute\;stica
  da constru&ccedil\;&atilde\;o de movimentos e comunidades\, projetos e di
 scursos coletivos\, desde as primeiras vanguardas &agrave\; atualidade.A p
 artir desta proposta geral sobre o que significa pensar e agir coletivamen
 te no mundo da arte\, prop&otilde\;e-se uma reflex&atilde\;o focalizada em
  quatro quest&otilde\;es centrais &ndash\; ex&iacute\;lio\, coexist&ecirc\
 ;ncia ut&oacute\;pica\, interven&ccedil\;&atilde\;o comunit&aacute\;ria e 
 mem&oacute\;ria coletiva &ndash\;\, que nos conduzem na an&aacute\;lise de
  antecedentes hist&oacute\;ricos\, bem como na abordagem de modelos emerge
 ntes e experi&ecirc\;ncias recentes de colabora&ccedil\;&atilde\;o e cria&
 ccedil\;&atilde\;o de identidades partilhadas em espa&ccedil\;os de trabal
 ho comunit&aacute\;rios.Conce&ccedil\;&atilde\;o e orienta&ccedil\;&atilde
 \;oSandra Vieira J&uuml\;rgens (cr&iacute\;tica\, historiadora de arte e e
 ditora)Este curso est&aacute\; creditado para professores dos grupos 200\,
  240\, 300 e 600 (0\,5 cr&eacute\;ditos) ao abrigo do protocolo de colabor
 a&ccedil\;&atilde\;o entre o Centro de Forma&ccedil\;&atilde\;o Centro-Oes
 te e o Descobrir - Programa Gulbenkian Educa&ccedil\;&atilde\;o para a Cul
 tura e Ci&ecirc\;ncia.\n\nQUANDO6\, 13\, 20\, 27 FEV\, S&aacute\;b.Das 14h
 30 &agrave\;s 17h30Para saber mais sobre a orientadoraSandra Vieira J&uuml
 \;rgense o seu trabalho clique no link do lado esquerdo.\n&nbsp\;\n&nbsp\;
 \n&nbsp\;\n\n{slider=Lista de Formandos Inscritos|blue}\n{module Formandos
  Inscritos}\n&nbsp\;{slider=Lista de Formandos N&atilde\;o Admitidos|red}
 \n{module MOD_RSEVENTSPRO_Naoadmitidos}\n&nbsp\;{slider=Lista Formandos Ad
 mitidos|green}\n{module MOD_RSEVENTSPRO_admitidos}\n{/sliders}\n https://c
 faecentro-oeste.pt/index.php/pt/component/rseventspro/acontecimento/375-07
 nf2016-colectivos?Itemid=5
DTSTART:20160206T143000Z
DTEND:20160610T173000Z
LOCATION:Fundação Calouste Gulbenkian (Av. de Berna\, 45A  \, 1067-001 \, L
 isboa \, Lisboa \, Portugal)
SUMMARY:07NF2016 - Colectivos
URL:https://cfaecentro-oeste.pt/index.php/pt/component/rseventspro/aconteci
 mento/375-07nf2016-colectivos?Itemid=5
END:VEVENT
END:VCALENDAR
