BEGIN:VCALENDAR
VERSION:2.0
PRODID:-//https://cfaecentro-oeste.pt///NONSGML kigkonsult.se iCalcreator 2.10.15//
METHOD:PUBLISH
BEGIN:VEVENT
UID:20260419T192359UTC-38610OVgiS@https://cfaecentro-oeste.pt/
DTSTAMP:20260419T192359Z
DESCRIPTION:&nbsp\;{modal html= '\n&nbsp\; &nbsp\;&nbsp\;A&ccedil\;&atilde\
 ;o Exclusiva a Docentes Associados em exercicio de fun&ccedil\;&otilde\;es
  no Agrupamento de Escolas do Cadaval\, por ordem de inscri&ccedil\;&atild
 e\;o\, limitada ao numero de vagas&nbsp\; &nbsp\;&nbsp\;&nbsp\;\n'&nbsp\;o
 pen='true'}...{/modal}\n&nbsp\;\n&nbsp\;\n{tab=Inscri&ccedil\;&atilde\;o|b
 ue}\n\n\n\n\n\n\nN&uacute\;mero da A&ccedil\;&atilde\;o\n\n\n64AE2020\n\n
 \n\n\nFormadores respons&aacute\;veis\n\n\nS&eacute\;rgio Ricardo Silva Ro
 drigues\n\n\n\n\nCrit&eacute\;rios de sele&ccedil\;&atilde\;o\n\n\nDocente
 s Associados em exercicio de fun&ccedil\;&otilde\;es no Agrupamento de Esc
 olas do Cadaval\, por ordem de inscri&ccedil\;&atilde\;o\, limitada ao num
 ero de vagas\n\n\n\n\nPagamento\n\n\nGratuita\n\n\n\n\nInscri&ccedil\;&oti
 lde\;es\n\n&nbsp\;\n\n\n\nCalendariza&ccedil\;&atilde\;o/\nHor&aacute\;rio
 \n\n\n&nbsp\;Inicio a 23 de abril &agrave\;s 17:00 horas\nSess&atilde\;o 1
 :&nbsp\; 23-04-2020 / 17:00-20:00  Sess&atilde\;o 2:&nbsp\; 27-04-2020 / 1
 7:00-20:00  Sess&atilde\;o 3:&nbsp\; 30-04-2020 / 17:00-20:00  Sess&atilde
 \;o 4:&nbsp\; 05-05-2020 / 17:00-20:00  Sess&atilde\;o 5:&nbsp\; 08-05-202
 0 / 17:00-20:00\n\n\n\n\nLocal de realiza&ccedil\;&atilde\;o\n\n\nE-learni
 ng\n\n\n\n\n\n\n{tab=Ficha da a&ccedil\;&atilde\;o|green}\n\n\n\n\n\n\nDes
 tinat&aacute\;rios\n\n\nDestinat&aacute\;rios de acordo com o n&ordm\;1 do
  artigo 8&ordm\;\, do Regime Jur&iacute\;dico da Forma&ccedil\;&atilde\;o 
 Continua de Professores: Professores dos Ensinos B&aacute\;sico e Secund&a
 acute\;rio e Professores de Educa&ccedil\;&atilde\;o Especial\nPara efeito
 s de aplica&ccedil\;&atilde\;o do artigo 9&ordm\; do Regime Jur&iacute\;di
 co da Forma&ccedil\;&atilde\;o Cont&iacute\;nua de Professores (dimens&ati
 lde\;o cientifica e pedag&oacute\;gica): Sem destinat&aacute\;rios\nN&ordm
 \; de Formandos:\nM&iacute\;nimo: 10 - M&aacute\;ximo: 50\n\n\n\n\nDura&cc
 edil\;&atilde\;o \n\n\nHoras Presenciais: 15 horas\nHoras de Trabalho Aut&
 oacute\;nomo: 0 Horas\n\n\n\n\nRegisto de acredita&ccedil\;&atilde\;o\n\n
 \nCCPFC/ACC-107997/20 - Modalidade: Curso de Forma&ccedil\;&atilde\;o\n\n
 \n\n\n\nConte&uacute\;dos\n\n\n1.Apresenta&ccedil\;&atilde\;o da formador(
 a) e dos formandos - 1 hora\n2.Apresenta&ccedil\;&atilde\;o da a&ccedil\;&
 atilde\;o: objetivos\, conte&uacute\;dos e avalia&ccedil\;&atilde\;o-30 m
 \n3.Prepara&ccedil\;&atilde\;o do computador para o ensino &agrave\; dist&
 acirc\;ncia. 30 m\n4.Escolha do browser mais adequado. 30 m\n5.Utiliza&cce
 dil\;&atilde\;o correta do email. 30 m\n6.Apresenta&ccedil\;&atilde\;o do 
 Google G Suite-30 m\n7. Trabalho colaborativo com o Google Drive - 1 hora
 \n8.Trabalho com o Google Classroom - 1 hora\n9.Recolha de elementos de av
 alia&ccedil\;&atilde\;o - 3 horas\n10. Realiza&ccedil\;&atilde\;o de auto 
 avalia&ccedil\;&atilde\;o - 3 horas\n11.Respeito pelos direitos de autor -
  30 m\n12.Avalia&ccedil\;&atilde\;o e auto-avalia&ccedil\;&atilde\;o da a&
 ccedil\;&atilde\;o de forma&ccedil\;&atilde\;o - 3 horas\n\n\n\n\nRaz&otil
 de\;es\n\n\nO ensino a dist&acirc\;ncia &eacute\; uma modalidade de ensino
 \, que se constitui como uma alternativa para os alunos impossibilitados d
 e frequentar presencialmente a escola\, alicer&ccedil\;ada na integra&cced
 il\;&atilde\;o das TIC nos processos de ensino e aprendizagem.\nTal como a
 contece no ensino presencial\, a utiliza&ccedil\;&atilde\;o da tecnologia 
 requer planeamento e adequa&ccedil\;&atilde\;o ao objetivo que o professor
  pretende atingir: enviar ou receber documentos\, promover o trabalho cola
 borativo entre os alunos\, realizar avalia&ccedil\;&atilde\;o formativa e 
 fornecer feedback sobre a mesma\, entre outros.\nOs professores devem sele
 cionar cuidadosamente as aplica&ccedil\;&otilde\;es com que v&atilde\;o tr
 abalhar e utiliz&aacute\;-las de forma correta\, de modo a rentabilizar o 
 seu tempo na recolha das tarefas realizadas pelos alunos e na devolu&ccedi
 l\;&atilde\;o da informa&ccedil\;&atilde\;o sobre as aprendizagens adquiri
 das.\nEsta a&ccedil\;&atilde\;o tem como objetivo dotar os professores com
  conhecimentos para lecionar na modalidade ensino &agrave\; dist&acirc\;nc
 ia\, apresentando ferramentas e recursos que os possam auxiliar nessa tare
 fa.\n\n\n\n\n\nEfeitos\n\n\n&bull\;Executar os procedimentos necess&aacute
 \;rios para preparar um ambiente de trabalho para o ensino &agrave\; dist&
 acirc\;ncia\n&bull\;Trabalhar com a plataforma de gest&atilde\;o de aprend
 izagens Google Classroom\n&bull\;Conceber atividades de aprendizagem que p
 ermitam a recolha de elementos de avalia&ccedil\;&atilde\;o\n\n\n\n\nAvali
 a&ccedil\;&atilde\;o dos formandos\n\n\nTeste de avalia&ccedil\;&atilde\;o
  final\, resposta m&uacute\;ltipla\, classificado na escala de 1 a 10.Resp
 eito integral pelos regulamentos que enquadram a forma&ccedil\;&atilde\;o 
 cont&iacute\;nua de professores\, nomeadamente o RJFCP e as cartas circula
 res sobre a avalia&ccedil\;&atilde\;o da forma&ccedil\;&atilde\;o de profe
 ssores emanadas pelo CCPFC e por CCPFC/DGAE.\n\n\n\n\n\n\n\n{/tabs}\n\n{sl
 ider=Lista de Formandos Inscritos|blue}\n{module Formandos Inscritos}\n&nb
 sp\;{slider=Lista de Formandos N&atilde\;o Admitidos|red}\n{module MOD_RSE
 VENTSPRO_Naoadmitidos}\n&nbsp\;{slider=Lista Formandos Admitidos|green}\n{
 module MOD_RSEVENTSPRO_admitidos}\n{/sliders} https://cfaecentro-oeste.pt/
 index.php/pt/component/rseventspro/acontecimento/571-64ae2020-metodologia-
 e-pratica-do-ensino-a-distancia-da-teoria-a-pratica-com-recurso-a-utilizac
 ao-da-plataforma-google-classroom?Itemid=36
DTSTART:20200423T160000Z
DTEND:20200424T190000Z
LOCATION:E-learning (e-learning)
SUMMARY:64AE2020 - Metodologia e prática  do Ensino a Distância\, da teoria
  à prática com recurso à utilização da plataforma Google Classroom
URL:https://cfaecentro-oeste.pt/index.php/pt/component/rseventspro/aconteci
 mento/571-64ae2020-metodologia-e-pratica-do-ensino-a-distancia-da-teoria-a
 -pratica-com-recurso-a-utilizacao-da-plataforma-google-classroom?Itemid=36
END:VEVENT
END:VCALENDAR
