BEGIN:VCALENDAR
VERSION:2.0
PRODID:-//https://cfaecentro-oeste.pt///NONSGML kigkonsult.se iCalcreator 2.10.15//
METHOD:PUBLISH
BEGIN:VEVENT
UID:20260420T174627UTC-7596h9necr@https://cfaecentro-oeste.pt/
DTSTAMP:20260420T174627Z
DESCRIPTION:&nbsp\;{modal html= '\n&nbsp\; &nbsp\;&nbsp\;A&ccedil\;&atilde\
 ;o Exclusiva a Docentes Associados em exercicio de fun&ccedil\;&otilde\;es
  no Agrupamento de Escolas Ra&uacute\;l Proen&ccedil\;a\, por ordem de ins
 cri&ccedil\;&atilde\;o\, limitada ao numero de vagas&nbsp\; &nbsp\;&nbsp\;
 &nbsp\;\n'&nbsp\;open='true'}...{/modal}\n{tab=Inscri&ccedil\;&atilde\;o|b
 ue}\n\n\n\n\n\n\nN&uacute\;mero da A&ccedil\;&atilde\;o\n\n\n64AG2020\n\n
 \n\n\nFormadores respons&aacute\;veis\n\n\nCarla Susana Coito De Jesus\n\n
 \n\n\nCrit&eacute\;rios de sele&ccedil\;&atilde\;o\n\n\nDocentes Associado
 s\, em exercicio de fun&ccedil\;&otilde\;es no Agrupamento de Escolas Ra&u
 acute\;l Proen&ccedil\;a\, por ordem de inscri&ccedil\;&atilde\;o\, limita
 da ao numero de vagas\n\n\n\n\nPagamento\n\n\nGratuita\n\n\n\n\nInscri&cce
 dil\;&otilde\;es\n\n\nInscri&ccedil\;&otilde\;es online at&eacute\; &agrav
 e\;s 16 horas do dia 5 de maio de 2020\n\n\n\n\nCalendariza&ccedil\;&atild
 e\;o/\nHor&aacute\;rio\n\n\nIn&iacute\;cio a 05-05-2020\, das 19:00h &agra
 ve\;s 22:00h.\nSess&atilde\;o 1:&nbsp\; 05-05-2020 / 19:00-22:00  Sess&ati
 lde\;o 2:&nbsp\; 08-05-2020 / 19:00-22:00  Sess&atilde\;o 3:&nbsp\; 09-04-
 2020 / 15:00-18:00  Sess&atilde\;o 4:&nbsp\; 12-05-2020 / 19:00-22:00  Ses
 s&atilde\;o 5:&nbsp\; 15-05-2020 / 19:00-22:00\n\n\n\nLocal de realiza&cce
 dil\;&atilde\;o\n\n\nE-learning\n&nbsp\;\n\n\n\n\n\n\n{tab=Ficha da a&cced
 il\;&atilde\;o|green}\n\n\n\n\n\n\nDestinat&aacute\;rios\n\n\nDestinat&aac
 ute\;rios de acordo com o n&ordm\;1 do artigo 8&ordm\;\, do Regime Jur&iac
 ute\;dico da Forma&ccedil\;&atilde\;o Continua de Professores: Professores
  dos Ensinos B&aacute\;sico e Secund&aacute\;rio e Professores de Educa&cc
 edil\;&atilde\;o Especial\nPara efeitos de aplica&ccedil\;&atilde\;o do ar
 tigo 9&ordm\; do Regime Jur&iacute\;dico da Forma&ccedil\;&atilde\;o Cont&
 iacute\;nua de Professores (dimens&atilde\;o cientifica e pedag&oacute\;gi
 ca): Sem destinat&aacute\;rios\nN&ordm\; de Formandos:\nM&iacute\;nimo: 10
  - M&aacute\;ximo: 50\n\n\n\n\nDura&ccedil\;&atilde\;o \n\n\nHoras Presenc
 iais: 15 horas\nHoras de Trabalho Aut&oacute\;nomo: 0 Horas\n\n\n\n\nRegis
 to de acredita&ccedil\;&atilde\;o\n\n\nCCPFC/ACC-107997/20 - Modalidade: C
 urso de Forma&ccedil\;&atilde\;o\n\n\n\n\n\nConte&uacute\;dos\n\n\n1.Apres
 enta&ccedil\;&atilde\;o da formadora e dos formandos - 1 hora\n2.Apresenta
 &ccedil\;&atilde\;o da a&ccedil\;&atilde\;o: objetivos\, conte&uacute\;dos
  e avalia&ccedil\;&atilde\;o-30 m\n3.Prepara&ccedil\;&atilde\;o do computa
 dor para o ensino &agrave\; dist&acirc\;ncia. 30 m\n4.Escolha do browser m
 ais adequado. 30 m\n5.Utiliza&ccedil\;&atilde\;o correta do email. 30 m\n6
 .Apresenta&ccedil\;&atilde\;o do Google G Suite-30 m\n7. Trabalho colabora
 tivo com o Google Drive - 1 hora\n8.Trabalho com o Google Classroom - 1 ho
 ra\n9.Recolha de elementos de avalia&ccedil\;&atilde\;o - 3 horas\n10. Rea
 liza&ccedil\;&atilde\;o de auto avalia&ccedil\;&atilde\;o - 3 horas\n11.Re
 speito pelos direitos de autor - 30 m\n12.Avalia&ccedil\;&atilde\;o e auto
 -avalia&ccedil\;&atilde\;o da a&ccedil\;&atilde\;o de forma&ccedil\;&atild
 e\;o - 3 horas\n\n\n\n\nRaz&otilde\;es\n\n\nO ensino a dist&acirc\;ncia &e
 acute\; uma modalidade de ensino\, que se constitui como uma alternativa p
 ara os alunos impossibilitados de frequentar presencialmente a escola\, al
 icer&ccedil\;ada na integra&ccedil\;&atilde\;o das TIC nos processos de en
 sino e aprendizagem.\nTal como acontece no ensino presencial\, a utiliza&c
 cedil\;&atilde\;o da tecnologia requer planeamento e adequa&ccedil\;&atild
 e\;o ao objetivo que o professor pretende atingir: enviar ou receber docum
 entos\, promover o trabalho colaborativo entre os alunos\, realizar avalia
 &ccedil\;&atilde\;o formativa e fornecer feedback sobre a mesma\, entre ou
 tros.\nOs professores devem selecionar cuidadosamente as aplica&ccedil\;&o
 tilde\;es com que v&atilde\;o trabalhar e utiliz&aacute\;-las de forma cor
 reta\, de modo a rentabilizar o seu tempo na recolha das tarefas realizada
 s pelos alunos e na devolu&ccedil\;&atilde\;o da informa&ccedil\;&atilde\;
 o sobre as aprendizagens adquiridas.\nEsta a&ccedil\;&atilde\;o tem como o
 bjetivo dotar os professores com conhecimentos para lecionar na modalidade
  ensino &agrave\; dist&acirc\;ncia\, apresentando ferramentas e recursos q
 ue os possam auxiliar nessa tarefa.\n\n\n\n\n\nEfeitos\n\n\n&bull\;Executa
 r os procedimentos necess&aacute\;rios para preparar um ambiente de trabal
 ho para o ensino &agrave\; dist&acirc\;ncia\n&bull\;Trabalhar com a plataf
 orma de gest&atilde\;o de aprendizagens Google Classroom\n&bull\;Conceber 
 atividades de aprendizagem que permitam a recolha de elementos de avalia&c
 cedil\;&atilde\;o\n\n\n\n\nAvalia&ccedil\;&atilde\;o dos formandos\n\n\nTe
 ste de avalia&ccedil\;&atilde\;o final\, resposta m&uacute\;ltipla\, class
 ificado na escala de 1 a 10.Respeito integral pelos regulamentos que enqua
 dram a forma&ccedil\;&atilde\;o cont&iacute\;nua de professores\, nomeadam
 ente o RJFCP e as cartas circulares sobre a avalia&ccedil\;&atilde\;o da f
 orma&ccedil\;&atilde\;o de professores emanadas pelo CCPFC e por CCPFC/DGA
 E.\n\n\n\n\n\n\n\n{/tabs}\n\n{slider=Lista de Formandos Inscritos|blue}\n{
 module Formandos Inscritos}\n&nbsp\;{slider=Lista de Formandos N&atilde\;o
  Admitidos|red}\n{module MOD_RSEVENTSPRO_Naoadmitidos}\n&nbsp\;{slider=Lis
 ta Formandos Admitidos|green}\n{module MOD_RSEVENTSPRO_admitidos}\n{/slide
 rs} https://cfaecentro-oeste.pt/index.php/pt/component/rseventspro/acontec
 imento/574-64ag2020-metodologia-e-pratica-do-ensino-a-distancia-da-teoria-
 a-pratica-com-recurso-a-utilizacao-da-plataforma-google-classroom?Itemid=1
DTSTART:20200505T180000Z
DTEND:20200505T210000Z
LOCATION:E-learning (e-learning)
SUMMARY:64AG2020 - Metodologia e prática  do Ensino a Distância\, da teoria
  à prática com recurso à utilização da plataforma Google Classroom
URL:https://cfaecentro-oeste.pt/index.php/pt/component/rseventspro/aconteci
 mento/574-64ag2020-metodologia-e-pratica-do-ensino-a-distancia-da-teoria-a
 -pratica-com-recurso-a-utilizacao-da-plataforma-google-classroom?Itemid=1
END:VEVENT
END:VCALENDAR
