BEGIN:VCALENDAR
VERSION:2.0
PRODID:-//https://cfaecentro-oeste.pt///NONSGML kigkonsult.se iCalcreator 2.10.15//
METHOD:PUBLISH
BEGIN:VEVENT
UID:20260419T150441UTC-8919ZluMPD@https://cfaecentro-oeste.pt/
DTSTAMP:20260419T150441Z
DESCRIPTION:&nbsp\;\n\n\n\n\n\n\n https://cfaecentro-oeste.pt/index.php/pt/
 component/rseventspro/acontecimento/728-226-01-o-futuro-e-hoje?Itemid=100
DTSTART:20230927T160000Z
DTEND:20230927T190000Z
LOCATION:Agrupamento de Escolas Fernão do Pó (Av. Dr. Joaquim de Albuquerqu
 e 45\, 2540 Bombarral\, Portugal)
SUMMARY:226-01 - O Futuro é Hoje
URL:https://cfaecentro-oeste.pt/index.php/pt/component/rseventspro/aconteci
 mento/728-226-01-o-futuro-e-hoje?Itemid=100
END:VEVENT
END:VCALENDAR
