BEGIN:VCALENDAR
VERSION:2.0
PRODID:-//https://cfaecentro-oeste.pt///NONSGML kigkonsult.se iCalcreator 2.10.15//
METHOD:PUBLISH
BEGIN:VEVENT
UID:20260420T150925UTC-5145IF37iU@https://cfaecentro-oeste.pt/
DTSTAMP:20260420T150925Z
DESCRIPTION:22901 - TECER ABRIL- UM OLHAR TRANSDISCIPLINAR SOBRE A LIBERDAD
 E\n&nbsp\;Para mais informações e inscrições\, aceda à plataforma de forma
 ção do CFAE\, em&nbsp\;https://centro-oeste.cfae.pt/&nbsp\;-&nbsp\;&nbsp\;
 Plataforma de Formação&nbsp\;\n{tab=Condições de Acesso|blue}\n\n\n\n\n\nC
 ritérios de seleção\n\n\nProfessores do ensino básico\, secundário e educa
 ção especial\n\n\n\n\nPagamento\n\n\nGratuita\n\n\n\n\nInscrições\n\nNa pl
 ataforma de formação do CFAE\, em&nbsp\;https://centro-oeste.cfae.pt/&nbsp
 \;-&nbsp\;&nbsp\;Plataforma de Formação&nbsp\;&nbsp\;\n\n\n\nDestinatários
 \n\n\n\n\n\n\nDespacho n.º 5741/2015 - Enquadra-se na possibilidade de ser
  reconhecida e certificada como ação de formação de curta duração:\nProfes
 sores dos Ensinos Básico e Secundário\, Professores de Educação Especial\n
 \n&nbsp\;\n\n\n\n\n\n\n\n\n\n{tab=Calendarização e Local|orange}\n\n&nbsp\
 ;\n{tab=Ficha da ação|green}\n\n\n\n\n\n\nNúmero da Ação\n\n\n23301\n\n\n
 \n\nDuração&nbsp\; \n\n\nN.º horas acreditadas: 6&nbsp\;horas\nHoras onlin
 e assíncrono: &nbsp\;0 Horas\nHoras online síncrono: &nbsp\;6 Horas\n&nbsp
 \;\n\n\n\n\nRegisto de acreditação\n\n\n&nbsp\;Modalidade:&nbsp\;Curta Dur
 ação\n\n\n\n\n\nConteúdos\n\n\nA construção de teares e exploração das sua
 s potencialidades pedagógicas e envolvimentos dos alunos e suas famílias\n
 \n\n\n\n\nRazões\n\n\nO impacto da pandemia na vida das escolas trouxe out
 ros olhares sobre a forma como aprendemos e ensinamos criando a necessidad
 e de repensar as metodologias e até os espaços\, nomeadamente as salas de 
 aula.\nA formação propõe aos professores a exploração de diferentes metodo
 logias e a integração de abordagens transdisciplinares nas suas práticas. 
 Isso permitirá que os professores desenvolvam atividades colaborativas que
  envolvam múltiplas disciplinas\, enriquecendo a experiência de aprendizag
 em dos alunos.\nAtravés da formação “Tecer abril - Um olhar transdisciplin
 ar sobre a liberdade” os professores serão incentivados a desenvolver ativ
 idades que estimulem a criatividade e o pensamento crítico dos alunos. Iss
 o contribuirá para uma aprendizagem enriquecedora e permitirá que os aluno
 s explorem e expressem suas próprias perspetivas e ideias.\n\n\n\n\nEfeito
 s\n\n\nTecer abril é uma expressão metafórica que representa o ato de cons
 truir\, entrelaçar e fortalecer os princípios e valores da liberdade nas n
 ossas vidas e na sociedade. Assim como um tecelão utiliza fios para criar 
 um tecido\, tecer a liberdade implica trabalhar ativamente para promover e
  preservar a liberdade individual e coletiva.\nA formação tem como princip
 al objetivo capacitar os professores para a implementação do projeto “Tece
 r Abril” com as suas turmas\, valorizar e explorar as diferentes metodolog
 ias e recursos pedagógicos\, promovendo a interdisciplinaridade\, a criati
 vidade\, o pensamento crítico e a participação ativa dos alunos na aprendi
 zagem.\nO projeto busca explorar o tema da liberdade por meio de atividade
 s que integram diferentes disciplinas\, como português\, matemática\, estu
 do do meio\, educação para a cidadania e artes.\n\n\n\n\nAvaliação dos for
 mandos\n\n\nQuestionário de avaliação da ação\, a enviar pelo CFAE\, por e
 mail\, a todos os formandos.\n&nbsp\;\n\n\n\n\n\n&nbsp\;\n{/tabs}\n{module
  Formandos Inscritos}\n&nbsp\;{slider=Lista de Formandos Não Admitidos|red
 }\n{module MOD_RSEVENTSPRO_Naoadmitidos}\n&nbsp\;{slider=Lista Formandos A
 dmitidos|green}\n{module MOD_RSEVENTSPRO_admitidos}\n{/sliders}&nbsp\; htt
 ps://cfaecentro-oeste.pt/index.php/pt/component/rseventspro/acontecimento/
 745-22901-tecer-abril-um-olhar-transdisciplinar-sobre-a-liberdade?Itemid=2
DTSTART:20231116T160000Z
DTEND:20231116T190000Z
LOCATION:Escola Básica Integrada Santo Onofre (Rua Francisco Franco 28A\, 2
 500 Caldas da Rainha\, Portugal)
SUMMARY:22901 - TECER ABRIL - UM OLHAR TRANSDISCIPLINAR SOBRE A LIBERDADE
URL:https://cfaecentro-oeste.pt/index.php/pt/component/rseventspro/aconteci
 mento/745-22901-tecer-abril-um-olhar-transdisciplinar-sobre-a-liberdade?It
 emid=2
END:VEVENT
END:VCALENDAR
