BEGIN:VCALENDAR
VERSION:2.0
PRODID:-//https://cfaecentro-oeste.pt///NONSGML kigkonsult.se iCalcreator 2.10.15//
METHOD:PUBLISH
BEGIN:VEVENT
UID:20260420T152720UTC-2168VRvTEI@https://cfaecentro-oeste.pt/
DTSTAMP:20260420T152720Z
DESCRIPTION:&nbsp\;\n https://cfaecentro-oeste.pt/index.php/pt/contactos/lo
 calizacao/acontecimento/314-empreendedorismo-nas-escolas
DTSTART:20141029T143000Z
DTEND:20141029T173000Z
LOCATION:Auditório da Câmara Municipal do Cadaval (Câmara Municipal de Cada
 val\, 2550 Cadaval\, Portugal)
SUMMARY:Empreendedorismo nas Escolas
URL:https://cfaecentro-oeste.pt/index.php/pt/contactos/localizacao/aconteci
 mento/314-empreendedorismo-nas-escolas
END:VEVENT
END:VCALENDAR
